BEGIN:VCALENDAR
VERSION:2.0
METHOD:PUBLISH
BEGIN:VEVENT
CREATED:20260424T113842
DTSTAMP:20260424T113842
LAST-MODIFIED:20260424T113842
DTSTART:20260516T090000
DTEND:20260516T153000
SUMMARY:Plavecké závody Strahovská makrela
DESCRIPTION:závodů pro veřejnost, zaměřených především na děti z pražských plaveckých škol. \n====\nNaše akce je určena zejména dětem a dospělým z Prahy, přičemž hlavním cílem je nabídnout závodní příležitost široké veřejnosti – zejména neregistrovaným plavcům, kteří se jinak nemohou zúčastnit oficiálních závodů pořádaných plaveckým svazem. Poskytujeme tak ideální příležitost pro nadějné plavce, aby si vyzkoušeli atmosféru závodů bez zbytečného tlaku. Nabízíme možnost i pro dospělé plavce a teenagery.\n\n====\nKontakt:\nMgr. Ondřej Šimáček\n +420 603 591 017\n ondrejsimacek@activityclub.cz\n====\nWebové stránky akce: http://activityclub.cz\nPraha 6 - Akce - Plavecké závody Strahovská makrela: 
ORGANIZER:Activity Club
LOCATION:Bazén Strahov, Vaníčkova 100/6, Praha 6
URL:http://activityclub.cz
CATEGORIES:Praha 6
END:VEVENT
END:VCALENDAR
