BEGIN:VCALENDAR
VERSION:2.0
METHOD:PUBLISH
BEGIN:VEVENT
CREATED:20260420T112656
DTSTAMP:20260420T112656
LAST-MODIFIED:20260420T112656
DTSTART:20260424T140000
DTEND:20260426T200000
SUMMARY:We Love Bubliny 2026
DESCRIPTION:Tři dny ve společnosti vynikajících bublin, skvělého jídla, hudby a téměř letní pohody v nádherném prostředí historické Písecké brány na Praze 6! To jsou již potřetí We Love Bubliny!\n====\nPřipravte se na atmosféru, která bude perlit od prvního přípitku až po poslední sklenku!We Love Bubliny již potřetí vypuknou v pátek 24. dubna ve 14,00 a potrvají až do neděle 26. dubna do 20,00 v nádherném prostředí historické Písecké brány poblíž Pražského hradu a stanice metra Hradčanská.Prosecco, cava, champagne, pet-naty a další vína... Živá hudba, stíny stromů, pohoda na lehátkách a gastronomické speciality, které prostě musíte ochutnat!\n Vstup na akci je zdarma!\n  \nOtevírací doba akce:\n 24.4.2026 14,00 - 22,00\n 25.4.2026 10,00 - 22,00\n 26.4.2026 10,00 - 20,00\n Více informací na www.welovefestival.cz nebo na FB události https://www.facebook.com/events/749440881354452/ \n\n====\nKontakt:\nEva Poupě\n eva@welovefestival.cz\n Tel.: (+420) 777 661 119\n====\nWebové stránky akce: http://www.welovefestival.cz\nPraha 6 - Akce - We Love Bubliny 2026: 
ORGANIZER:We Love Festival s.r.o.
LOCATION:Písecká brána, K Brusce 5, Praha 6
URL:http://www.welovefestival.cz
CATEGORIES:Praha 6
END:VEVENT
END:VCALENDAR
