BEGIN:VCALENDAR
VERSION:2.0
METHOD:PUBLISH
BEGIN:VEVENT
CREATED:20260424T172316
DTSTAMP:20260424T172316
LAST-MODIFIED:20260424T172316
DTSTART:20260429T190000
DTEND:20260429T191000
SUMMARY:Jana Kirschner &#9474; 29. dubna 2026
DESCRIPTION:Za doprovodu kláves, kytary a vokálu nabídne Jana Kirschner intimní průřez svou tvorbou od přelomového alba "V cudzom meste" až po současnost.\n====\n Slovenská zpěvačka a autorka Jana Kirschner, jedna z nejvýraznějších osobností středoevropské hudební scény, vystoupí v rámci série Když hudba odpoví ve speciálním akustickém setu bez bicí soupravy. Za doprovodu kláves, kytary a vokálu nabídne intimní průřez svou tvorbou od přelomového alba V cudzom meste až po současnost.    Její písně jsou dlouhodobě založeny na osobní, niterní výpovědi a citlivém vnímání světa kolem nás. Odpovědnost zde není velkým gestem, ale věrností vlastnímu hlasu. Komorní formát koncertu dává vyniknout textům, emocím i tichu mezi nimi.    Výtěžek ze vstupného bude věnován ve prospěch projektu Piana do škol Nadace Karel Komárek Family Foundation, konkrétně na stipendijní programy mladých talentů.\n====\nKontakt:\nartium@kkcg.com\n====\nWebové stránky akce: https://www.facebook.com/events/1445085277156719/\nPraha 6 - Akce - Jana Kirschner &#9474; 29. dubna 2026: 
ORGANIZER:Artium by KKCG
LOCATION:Artium by KKCG, Bořislavka Centrum, Evropská 866/71, Praha 6
URL:https://www.facebook.com/events/1445085277156719/
CATEGORIES:Praha 6
END:VEVENT
END:VCALENDAR
