BEGIN:VCALENDAR
VERSION:2.0
METHOD:PUBLISH
BEGIN:VEVENT
CREATED:20260424T192410
DTSTAMP:20260424T192410
LAST-MODIFIED:20260424T192410
DTSTART:20260527T190000
DTEND:20260527T191000
SUMMARY:Igor Orozovič & CO. &#9474; 27. května 2026
DESCRIPTION: Koncert Igora Orozoviče propojí šanson, pop, jemný jazz i blues a přináší emotivní hudební výpravu plnou příběhů, melancholie i hravosti.\n====\n Herec a hudebník Igor Orozovič, člen Činohry Národního divadla a trojnásobný nominant na Cenu Thálie, představí svou autorskou tvorbu v citlivém akustickém pojetí. Jeho koncert propojuje šanson, pop, jemný jazz i blues a přináší emotivní hudební výpravu plnou příběhů, melancholie i hravosti.    V rámci série Když hudba odpoví zazní písně z alba Když chlap svléká tmu i další skladby v komornější podobě, která dává vyniknout textům a detailu. Hudba zde není jen zážitkem, ale osobní výpovědí – pravdivou a intenzivní. Igor zahraje společně se svojí kapelou tvořenou špičkovými hudebníky české hudební scény.    Výtěžek ze vstupného bude věnován ve prospěch projektu Piana do škol Nadace Karel Komárek Family Foundation, konkrétně na stipendijní programy mladých talentů.\n====\nKontakt:\nartium@kkcg.com\n====\nWebové stránky akce: https://www.facebook.com/events/2066419007251737/\nPraha 6 - Akce - Igor Orozovič & CO. &#9474; 27. května 2026: 
ORGANIZER:Artium by KKCG
LOCATION:Artium by KKCG, Bořislavka Centrum, Evropská 866/71, Praha 6
URL:https://www.facebook.com/events/2066419007251737/
CATEGORIES:Praha 6
END:VEVENT
END:VCALENDAR
