BEGIN:VCALENDAR
VERSION:2.0
METHOD:PUBLISH
BEGIN:VEVENT
CREATED:20260424T161945
DTSTAMP:20260424T161945
LAST-MODIFIED:20260424T161945
DTSTART:20260429T163000
DTEND:20260429T173000
SUMMARY:Příhody matky přírody a jiné knihy Radka Malého
DESCRIPTION:Beseda se spisovatelem Radkem Malým pro děti od 8 do 12 let.\n====\nNa besedě s Radkem Malým se dozvíte, jak pracuje spisovatel, kdo všechno je potřeba, aby vznikla dětská knížka, ale třeba taky to, proč matka Příroda neměla zaspat. Představíme si přírodu v příbězích, básních i naučných knihách.\n Beseda je vhodná pro děti od 8 do 12 let.\n Pozor! Je třeba si rezervovat místo na telefonním čísle +420 770 130 242 nebo osobně na pobočce.\n\n====\nKontakt:\n+420 770 130 242\n \n petriny@mlp.cz\n====\nWebové stránky akce: https://www.mlp.cz/cz/akce/prihody-matky-prirody-jine-knihy-radka-maleho/4566\nPraha 6 - Akce - Příhody matky přírody a jiné knihy Radka Malého: 
ORGANIZER:Městská knihovna
LOCATION:Městská knihovna v Praze, pobočka Petřiny, U Petřin 2511/1, 160 00 Praha 6
URL:https://www.mlp.cz/cz/akce/prihody-matky-prirody-jine-knihy-radka-maleho/4566
CATEGORIES:Praha 6
END:VEVENT
END:VCALENDAR
