BEGIN:VCALENDAR
VERSION:2.0
METHOD:PUBLISH
BEGIN:VEVENT
CREATED:20260424T192300
DTSTAMP:20260424T192300
LAST-MODIFIED:20260424T192300
DTSTART:20260424T150000
DTEND:20260424T170000
SUMMARY:Odpoledne s mezinárodní dámou
DESCRIPTION:Přijďte se naučit pravidla mezinárodní dámy a zahrát si! Tento workshop je skvělá příležitost pro všechny, kdo se chtějí seznámit s touto fascinující hrou, která se hraje na šachovnici o velikosti 10×10 polí. \n====\nNaučíte se nejen základní pravidla, ale i různé taktiky a strategie, které tuto hru činí dynamičtější a vyžadují dobré plánování a předvídání tahů soupeře. K tomu budete mít jedinečnou příležitost zahrát si společně s dětmi z Prahy 6, které jsou v tomto sportu velmi úspěšné ve svých kategoriích v ČR. Můžete se těšit na zábavu, nové zkušenosti a možnost si zahrát s těmi, kteří se mohou pochlubit vynikajícími výsledky. \n Další trénink: 29. 5. 2026 \n www.i-draughts.cz\n\n====\nKontakt:\n+420 770 130 242\n \n petriny@mlp.cz\n====\nWebové stránky akce: https://www.mlp.cz/cz/akce/odpoledne-s-mezinarodni-damou-0/4564\nPraha 6 - Akce - Odpoledne s mezinárodní dámou: 
ORGANIZER:Městská knihovna
LOCATION:Městská knihovna v Praze, pobočka Petřiny, U Petřin 2511/1, 160 00 Praha 6
URL:https://www.mlp.cz/cz/akce/odpoledne-s-mezinarodni-damou-0/4564
CATEGORIES:Praha 6
END:VEVENT
END:VCALENDAR
