BEGIN:VCALENDAR
VERSION:2.0
METHOD:PUBLISH
BEGIN:VEVENT
CREATED:20260424T060329
DTSTAMP:20260424T060329
LAST-MODIFIED:20260424T060329
DTSTART:20260424T170000
DTEND:20260424T184500
SUMMARY:Book Club: příroda a ekologie
DESCRIPTION:Duben je ve znamení Dne Země a tak vás zveme na přátelské setkání nad výjimečnou sérií norské autorky Maja Lunde – Klimatické kvarteto. Společně si budeme povídat o knihách: Historie včel (2017), Modrá (2018), Kůň Převalského (2021), Sen o stromě (2024).\n====\nMožná si říkáte – další knížky o klimatu? Ale tahle série není o číslech, grafech ani moralizování. Je především o lidech. O rodičích a dětech. O strachu i naději. O tom, co jsme ochotni obětovat – a co už ne.\n Proč si je přečíst?\nProtože vás pohltí silné příběhy napříč časem – od minulosti až po blízkou budoucnost.\nProtože vás přimějí přemýšlet, aniž by vás poučovaly.\nProtože ukazují, že klimatická změna není abstraktní téma, ale něco, co se dotýká vztahů, rodiny i každodenních rozhodnutí.\nA možná i proto, že po dočtení zůstanete o něco citlivější – k přírodě i k sobě navzájem.\n Na našem setkání nebude žádná „správná interpretace“ – jen sdílení, otázky a bezpečný prostor pro různé pohledy. Ať už jste četli celý kvartet, nebo jen jednu z knih, jste vítáni.\n Přijďte si popovídat, inspirovat se a strávit příjemný čas nad literaturou, která má co říct právě teď.\n Pozor! Je třeba si rezervovat místo na telefonním čísle +420 770 130 242 nebo osobně na pobočce.\n\n====\nKontakt:\n+420 770 130 242\n \n petriny@mlp.cz\n====\nWebové stránky akce: https://www.mlp.cz/cz/akce/book-club-priroda-ekologie/4562\nPraha 6 - Akce - Book Club: příroda a ekologie: 
ORGANIZER:Městská knihovna
LOCATION:Městská knihovna v Praze, pobočka Petřiny, U Petřin 2511/1, 160 00 Praha 6
URL:https://www.mlp.cz/cz/akce/book-club-priroda-ekologie/4562
CATEGORIES:Praha 6
END:VEVENT
END:VCALENDAR
