BEGIN:VCALENDAR
VERSION:2.0
METHOD:PUBLISH
BEGIN:VEVENT
CREATED:20260424T162021
DTSTAMP:20260424T162021
LAST-MODIFIED:20260424T162021
DTSTART:20260428T163000
DTEND:20260428T183000
SUMMARY:Klub koláží na Petřinách
DESCRIPTION:Klub koláží je otevřeným prostorem pro všechny, kteří chtějí pravidelně nacházet čas pro sebe, tvořit a sdílet. \n====\nJednou měsíčně se společně ponoříme do světa papírových koláží. Bez potřeby umět kreslit nebo malovat můžete vytvářet osobité obrazy, které často vypoví víc, než bychom čekali – o našich náladách, snech i otázkách, které si zrovna neseme. Přijďte si pohrát s obrazem, který může být i jemným zrcadlem vašeho vnitřního světa.\n Každé setkání nabídne jiné téma jako jemné vodítko, ale hlavním cílem je volná hra s materiálem, možnost zpomalit, potkat se a sdílet, co vzniká – na papíře i v nás. Klub je bezpečným a přátelským místem pro tvořivý odpočinek i komunitní propojování skrze obraz a slova. Veškerý materiál bude připraven, stačí přijít. Lektorka: Tereza Divíšek (http://www.rezadivisek.cz).\n Pozor! Je třeba si rezervovat místo na telefonním čísle +420 770 130 242 nebo osobně na pobočce.\n\n====\nKontakt:\n+420 770 130 242\n petriny@mlp.cz\n====\nWebové stránky akce: https://www.mlp.cz/cz/akce/klub-kolazi-na-petrinach/4544\nPraha 6 - Akce - Klub koláží na Petřinách: 
ORGANIZER:Městská knihovna
LOCATION:Městská knihovna v Praze, pobočka Petřiny, U Petřin 2511/1, 160 00 Praha 6
URL:https://www.mlp.cz/cz/akce/klub-kolazi-na-petrinach/4544
CATEGORIES:Praha 6
END:VEVENT
END:VCALENDAR
