BEGIN:VCALENDAR
VERSION:2.0
METHOD:PUBLISH
BEGIN:VEVENT
CREATED:20260421T102732
DTSTAMP:20260421T102732
LAST-MODIFIED:20260421T102732
DTSTART:20260422T160000
DTEND:20260422T190000
SUMMARY:Máchův Máj Revival – Workshop a scénické čtení s Maclem a Luňákovou
DESCRIPTION:Workshop a inscenované performativní čtení vybraných textů ve spojení s H. H. Máchou.\n====\nStředa 22. dubna se od 16 hodin uskuteční workshop a od 18 hodin pak inscenované performativní čtení vybraných textů inspirovaných osobností a dílem K. H. Máchy. Program povede spisovatel a performer Ondřej Macl ve spolupráci se spisovatelkou Annou Luňákovou, doprovázený sounddesignem Jakuba Šťourače.   Zapojte se, vy hvězdy rozplynulé, do odpoledního workshopu s Ondřejem Maclem a Annou Luňákovou otevřeného literárně zkušeným i poprvé experimentujícím! Od 16 do 17:30 hodin budeme v prostorách Muzea Literatury v rámci kolektivního tvůrčího psaní vytvářet variace na kultovní Máj.   Účast není věkově omezena. Pokud máte o workshop zájem, ideálně se ohlašte předem na e-mail: ondramacl@seznam.cz.   Od 18:00 se uskuteční scénické a performativní čtení pro veřejnost, do něhož se budou moci zapojit i účastníci a účastnice workshopu. Čeká vás jedinečný exkurs na téma druhého života Máchova Máje, a to v jeho literárních, ale i hudebních a filmových proměnách.   Hynku! – Viléme!! – Jarmilo!!!Svatý Jene Nepomucký, svatá Ludmilo,Majdalenka, Apolenka s Veronikouza Janíčkom, za Palíčkom krok by nespravila.   Vstup zdarma.\n====\nKontakt:\nMgA. Jan Kieweg\n kieweg@pamatnik-np.cz\n====\nWebové stránky akce: https://www.muzeumliteratury.cz/machuv-maj-revival-workshop-a-scenicke-cteni-s-maclem-a-lunakovou\nPraha 6 - Akce - Máchův Máj Revival – Workshop a scénické čtení s Maclem a Luňákovou: 
ORGANIZER:Památník národního písemnictví
LOCATION:Muzeum literatury
URL:https://www.muzeumliteratury.cz/machuv-maj-revival-workshop-a-scenicke-cteni-s-maclem-a-lunakovou
CATEGORIES:Praha 6
END:VEVENT
END:VCALENDAR
