BEGIN:VCALENDAR
VERSION:2.0
METHOD:PUBLISH
BEGIN:VEVENT
CREATED:20260424T204124
DTSTAMP:20260424T204124
LAST-MODIFIED:20260424T204124
DTSTART:20260503T140000
DTEND:20260503T160000
SUMMARY:Smyslyhrátky: Máj, lásky čas
DESCRIPTION:Podpořte vývoj svých dětí pomocí zábavných her a aktivit, zaměřených na stimulaci jejich smyslů. Pro děti samostatně stojící do šesti let.\n====\nSmyslyhrátky jsou aktivita, která pomocí zapojeních všech smyslů pomáhá dětem objevovat svět a slouží k rozvoji jemné i hrubé motoriky a koordinace. Pojďte se o tom přesvědčit k nám Každé datum - jiné téma.\n Nyní je téma: Máj, lásky čas\n Přihlašování na email.\n Cena 220,-\n Těší se na vás Stáňa Plojharová\n\n====\nKontakt:\norisek.orechovka@gmail.com\n Blanka Čížková 608050504\n====\nWebové stránky akce: http://www.stresovickyorisek.cz\nPraha 6 - Akce - Smyslyhrátky: Máj, lásky čas: 
ORGANIZER:Střešovický Oříšek,z.s.
LOCATION:Střešovický Oříšek, Farní 368/2, Praha 6
URL:http://www.stresovickyorisek.cz
CATEGORIES:Praha 6
END:VEVENT
END:VCALENDAR
