BEGIN:VCALENDAR
VERSION:2.0
METHOD:PUBLISH
BEGIN:VEVENT
CREATED:20260424T204125
DTSTAMP:20260424T204125
LAST-MODIFIED:20260424T204125
DTSTART:20260511T190000
DTEND:20260511T200000
SUMMARY:Střešovický kulturní klub
DESCRIPTION:Pojďte se opět sejít a povídat si o kultuře!  Tentokrát na téma: Dokumentární filmy Cílem je chvíli naslouchat, chvíli vyprávět, nechat se inspirovat nebo se jen obohatit dojmy druhých. \n====\nPřihlašování na orisek.orechovka@gmail.com\n Příspěvek dle vašich možností 50,-/100,-/200,-\n na setkání se těší Jana Šimková\n\n====\nKontakt:\norisek.orechovka@gmail.com\n Blanka Čížková 608050504\n====\nWebové stránky akce: http://www.stresovickyorisek.cz\nPraha 6 - Akce - Střešovický kulturní klub: 
ORGANIZER:Střešovický Oříšek,z.s.
LOCATION:Střešovický Oříšek, Farní 368/2, Praha 6
URL:http://www.stresovickyorisek.cz
CATEGORIES:Praha 6
END:VEVENT
END:VCALENDAR
