BEGIN:VCALENDAR
VERSION:2.0
METHOD:PUBLISH
BEGIN:VEVENT
CREATED:20260424T192052
DTSTAMP:20260424T192052
LAST-MODIFIED:20260424T192052
DTSTART:20260529T173000
DTEND:20260529T174000
SUMMARY:Karibské dobrodružství posádky lodi MALILA
DESCRIPTION:Zveme vás na filmové promítání a cestovatelskou besedu o jedné prosluněné rodinné plavbě. Uvidíte: Martinik, Svatou Lucii, Dominicu, Grenadiny, Tobago Cays a také naši rodinu – kapitána - táta Martin, posádku - mámu Anežku a naše dvě malé plavčice 4 a 6 let. Táta nejprve přeplul na lodi Atlantik a pak jsme se společně téměř 5 měsíců plavili na plachetnici a brázdili karibské moře.\n====\n  Pátek 29. května 2026 od 17.30\n   17:30 | Zahájení\n   17:45 | Promítání filmu (cca 60 min)\n   18:45 | Povídání, sdílení zážitků a vaše dotazy\n   Děti jsou srdečně vítány! Ty naše tam budou také!\n Vstupné dobrovolné.\n Přihlašování předem na orisek.orechovka@gmail.com\n  \nTěšíme se na vás! Posádka lodi MALILA – Martin, Anežka, Li a La\n\n====\nKontakt:\norisek.orechovka@gmail.com\n Blanka Čížková 608050504\n====\nPraha 6 - Akce - Karibské dobrodružství posádky lodi MALILA: 
ORGANIZER:Střešovický Oříšek,z.s.
LOCATION:Střešovický Oříšek, Farní 368/2, Praha 6
CATEGORIES:Praha 6
END:VEVENT
END:VCALENDAR
