BEGIN:VCALENDAR
VERSION:2.0
METHOD:PUBLISH
BEGIN:VEVENT
CREATED:20260424T192132
DTSTAMP:20260424T192132
LAST-MODIFIED:20260424T192132
DTSTART:20260529T160000
DTEND:20260529T170000
SUMMARY:Rytmické žabky - 2. část
DESCRIPTION:Hudebně - pohybový workshop pro děti pro děti (4-7 let) bez rodičů. Každý z nás je malý muzikant!\n====\nCo spolu zažijeme: * Zpívání a hra na nástrojky\n* Bubnování a rytmické hry\n* Skládání vlastního hitu\n* Výroba hudebního nástroje\n Těší se na vás Anežka Patřičná\n cena: 200,-\n Přihlašování předem na orisek.orechovka@gmail.com\n\n====\nKontakt:\norisek.orechovka@gmail.com\n Blanka Čížková 608050504\n====\nPraha 6 - Akce - Rytmické žabky - 2. část: 
ORGANIZER:Střešovický Oříšek,z.s.
LOCATION:Střešovický Oříšek, Farní 368/2, Praha 6
CATEGORIES:Praha 6
END:VEVENT
END:VCALENDAR
