BEGIN:VCALENDAR
VERSION:2.0
METHOD:PUBLISH
BEGIN:VEVENT
CREATED:20260422T102123
DTSTAMP:20260422T102123
LAST-MODIFIED:20260422T102123
DTSTART:20260521T130000
DTEND:20260521T150000
SUMMARY:ochrana seniorů jako spotřebitelů aneb jak nenaletět a být chytrým zákazníkem
DESCRIPTION:Dozvíte se, na co si dát pozor při nákupech, a jak se nenechat napálit nepoctivými prodejci\n====\nO čem si budeme povídat:\nBezpečné nákupy: Jak poznat poctivý e-shop a nespálit se u podezřelých prodejců na internetu\nTriky se slevami: Jak fungují slevové akce a jak se bránit nekalým praktikám\nReklamace a vrácení zboží: Co dělat, když věc nefunguje nebo ji chcete vrátit, a kdo vám v takovém případě bezplatně pomůže\nPozor na padělky: Jak poznat kvalitní výrobek od napodobeniny\n Během přednášky bude prostor pro diskuzi\n\n====\nKontakt:\nIng. Gabriela Nováková\n Senior fitnes\n tel.: 721 130 615\n e-mail: g.novakova@seniorfitnes.cz\n====\nWebové stránky akce: https://www.seniorfitnes.cz/novinky/?post=ochrana-senioru-jako-spotrebitelu\nPraha 6 - Akce - ochrana seniorů jako spotřebitelů aneb jak nenaletět a být chytrým zákazníkem: 
ORGANIZER:Česká obchodní inspekce
LOCATION:Praha 6 Uralská 6
URL:https://www.seniorfitnes.cz/novinky/?post=ochrana-senioru-jako-spotrebitelu
CATEGORIES:Praha 6
END:VEVENT
END:VCALENDAR
