BEGIN:VCALENDAR
VERSION:2.0
METHOD:PUBLISH
BEGIN:VEVENT
CREATED:20260422T101851
DTSTAMP:20260422T101851
LAST-MODIFIED:20260422T101851
DTSTART:20260531T150000
DTEND:20260531T190000
SUMMARY:Barefoot Fest 2026
DESCRIPTION:Barefoot Fest 2026 je akce zaměřená na barefoot obuv, zdravý pohyb a přirozenou chůzi. Letošní ročník se koná v prostoru Písecké brány.\n====\nMezinárodní den bosé chůze - BareFoot Fest\n leguano\n • Vyšetření na podoskopu a plantografu a konzultace s fyzioterapeuty • Odborný program a program pro děti • Běh s ultramaratoncem Milošem Škorpilem • Glasswalking s Bosou turistikou • Charitativní autogramiáda knihy Fenomén barefoot pro nadační fond Šestý smysl\n Moderuje a zpívá: Kateřina Steinerová\n Mediální partneři:\n ASOCIACE BAREFOOT OBUVI ABFO.cz\n Praha 6\n\n====\nKontakt:\nPhDr. Petr Exnar\n Bosoboty leguano\n Wuchterlova 336/22\n 160 00 Praha 6 – Dejvice\n tel: 220 610 258\n mobil: 605 218 669\n====\nWebové stránky akce: http://www.barefootfest.cz\nPraha 6 - Akce - Barefoot Fest 2026: 
ORGANIZER:leguano
LOCATION:Písecká brána, K Brusce 5, Praha 6
URL:http://www.barefootfest.cz
CATEGORIES:Praha 6
END:VEVENT
END:VCALENDAR
