BEGIN:VCALENDAR
VERSION:2.0
METHOD:PUBLISH
BEGIN:VEVENT
CREATED:20260424T161624
DTSTAMP:20260424T161624
LAST-MODIFIED:20260424T161624
DTSTART:20260502T150000
DTEND:20260502T151000
SUMMARY:Divadlo Čučka – O Ryzce a Vraníkovi
DESCRIPTION:Divadlo tvoří knihovnice Edita Vaníčková Makosová a spisovatel Marek Toman. Spojuje nás zkušenost se stovkami knižních dílen, autorských čtení, literárních diskusí a vycházek, veletrhů i malotrhů a knižních křtů. A především to, že máme rádi knihy a bereme je vážně, čtenáře jakbysmet. Další oblíbená téma: podpora četby. Naše hry spočívají na dramatizaci knih pro děti tak, aby to byla podívaná pro celou rodinu. Vtahujeme do děje. Přizpůsobujeme hru místu konání.\n====\nDIVADLO ČUČKA Divadlo Čučka vzniklo v roce 2017, díky sdílené zkušenosti spisovatele a knihovnice.\n Divadlo tvoří knihovnice Edita Vaníčková Makosová a spisovatel Marek Toman. Spojuje nás zkušenost se stovkami knižních dílen, autorských čtení, literárních diskusí a vycházek, veletrhů i malotrhů a knižních křtů. A především to, že máme rádi knihy a bereme je vážně, čtenáře jakbysmet. Další oblíbená téma: podpora četby. Naše hry spočívají na dramatizaci knih pro děti tak, aby to byla podívaná pro celou rodinu. Vtahujeme do děje. Přizpůsobujeme hru místu konání.\n     O RYZCE A VRANÍKOVI            \n Příběhy dvou koní – nemotorného Vraníka a citlivé Ryzky pro děti od tří let, na motivy stejnojmenné knihy. Hrajeme s loutkami, ale především si hrajeme s dětmi. Vtahující podívaná, během níž se děti podle chuti zapojí do představení a vyzkoušejí si, jaké je to být kůň. Další hra v podání Divadla Čučka, které již léta vystupuje v knihovnách, školách, na festivalech a v klubech. A jeho představení se tak či onak točí kolem podpory porozumění jazyku a čtenářství.\n Podle stejnojmenné knihy, vydalo nakl. Šimon Ryšavý s ilustracemi Jana Ungráda (2003, 2014)\n „- Já jsem Vraník, to je Ryzka, s úsměvem kůň odříká,\n– viděl jsi už takhle zblízka vůbec někdy koníka?“\n    \n====\nKontakt:\ntel.: 233 353 020 (10:30 – 19:00)\n e-mail: kastan@kastan.cz\n====\nWebové stránky akce: https://kastan.cz/akce/divadlo-cucka-o-ryzce-a-vranikovi/\nPraha 6 - Akce - Divadlo Čučka – O Ryzce a Vraníkovi: 
ORGANIZER:Kaštan – scéna Unijazzu
LOCATION:Klub Kaštan, Bělohorská 201, 169 00, Praha Břevnov
URL:https://kastan.cz/akce/divadlo-cucka-o-ryzce-a-vranikovi/
CATEGORIES:Praha 6
END:VEVENT
END:VCALENDAR
